BEGIN:VCALENDAR
VERSION:2.0
PRODID:-//PIOGA - ECPv6.15.11//NONSGML v1.0//EN
CALSCALE:GREGORIAN
METHOD:PUBLISH
X-WR-CALNAME:PIOGA
X-ORIGINAL-URL:https://pioga.org
X-WR-CALDESC:Events for PIOGA
REFRESH-INTERVAL;VALUE=DURATION:PT1H
X-Robots-Tag:noindex
X-PUBLISHED-TTL:PT1H
BEGIN:VTIMEZONE
TZID:America/New_York
BEGIN:DAYLIGHT
TZOFFSETFROM:-0500
TZOFFSETTO:-0400
TZNAME:EDT
DTSTART:20250309T070000
END:DAYLIGHT
BEGIN:STANDARD
TZOFFSETFROM:-0400
TZOFFSETTO:-0500
TZNAME:EST
DTSTART:20251102T060000
END:STANDARD
BEGIN:DAYLIGHT
TZOFFSETFROM:-0500
TZOFFSETTO:-0400
TZNAME:EDT
DTSTART:20260308T070000
END:DAYLIGHT
BEGIN:STANDARD
TZOFFSETFROM:-0400
TZOFFSETTO:-0500
TZNAME:EST
DTSTART:20261101T060000
END:STANDARD
BEGIN:DAYLIGHT
TZOFFSETFROM:-0500
TZOFFSETTO:-0400
TZNAME:EDT
DTSTART:20270314T070000
END:DAYLIGHT
BEGIN:STANDARD
TZOFFSETFROM:-0400
TZOFFSETTO:-0500
TZNAME:EST
DTSTART:20271107T060000
END:STANDARD
END:VTIMEZONE
BEGIN:VEVENT
DTSTART;VALUE=DATE:20260218
DTEND;VALUE=DATE:20260221
DTSTAMP:20260423T045024
CREATED:20251210T174836Z
LAST-MODIFIED:20251210T174836Z
UID:28411-1771372800-1771631999@pioga.org
SUMMARY:NAPE Expo
DESCRIPTION:NAPE Expo \nRegistration Information | NAPE \nFeb 18-20\, 2026 \nGeorge R. Brown Convention Center – Houston\, TX
URL:https://pioga.org/event/nape-expo/
CATEGORIES:Industry Conferences
END:VEVENT
BEGIN:VEVENT
DTSTART;TZID=America/New_York:20260212T100000
DTEND;TZID=America/New_York:20260212T140000
DTSTAMP:20260423T045024
CREATED:20251229T151017Z
LAST-MODIFIED:20260204T130227Z
UID:28549-1770890400-1770904800@pioga.org
SUMMARY:The Appalachian STEPS Network / PIOGA's Safety Committee
DESCRIPTION:HIDDEN INDUSTRY HAZARDS \nTOPICS: \nAir Monitoring \nEnergy Isolation \nIndustrial Hygiene \nPipeline Hazards \nFebruary 12\, 2026 \nLOCATION: Range Resources\, 3000 Town Center Blvd.\, Canonsburg\, PA  15301 \nTIME: Registration: 9:30 am – 10 am\, Meeting: 10 am – 2 pm \nMeetings will be IN PERSON ONLY for 2026 \nDeadline to Register/Sponsor is February 5\, 2026 \nNew This Year: CEU (continuing education credits) and PDH (professional development hours) certificates will be available.  Each class will be eligible for 3 PDHs and .3 CEUs.This is a free meeting for all to attend but your sponsorship is needed to help defer the costs. \nClick HERE to register/sponsor \nPlease consider being a Sponsor \nGOLD Sponsor $2000 \n         \nIncludes logo recognition at meeting plus a 2 minute speaking spot during a break or lunch. Additional recognition during breaks\, lunch\, and on all signage \nSILVER Sponsor $1000 \nIncludes logo recognition at meeting plus special recognition for specific sponsorship during breaks\, lunch\,  and on all signage \n \nBRONZE Sponsor $500 \nIncludes logo recognition on all signage \nEXHITIBOR $500 \nIncluded logo recognition on all signage and 6′ table and 2 chairs
URL:https://pioga.org/event/the-appalachian-steps-network/
LOCATION:Range Resources\, 3000 Town Center Blvd.\, Canonsburg\, PA\, 15301\, United States
CATEGORIES:Industry Classes,PIOGA Committee Meetings,PIOGA Events
ORGANIZER;CN="Deana McMahan":MAILTO:deana@pioga.org
END:VEVENT
BEGIN:VEVENT
DTSTART;TZID=America/New_York:20260211T104500
DTEND;TZID=America/New_York:20260211T120000
DTSTAMP:20260423T045024
CREATED:20260126T160043Z
LAST-MODIFIED:20260126T160043Z
UID:28857-1770806700-1770811200@pioga.org
SUMMARY:PIOGA's Environmental Committee Meeting
DESCRIPTION:February 11th – 10:45 am \nPIOGA’s Environmental Committee Meeting \nMeeting details sent via email/calendar invite. Please contact deana@pioga.org if you are interested in joining the committee or have any questions!
URL:https://pioga.org/event/piogas-environmental-committee-meeting-2/
LOCATION:Virtual Event
CATEGORIES:PIOGA Committee Meetings
END:VEVENT
BEGIN:VEVENT
DTSTART;TZID=America/New_York:20260211T090000
DTEND;TZID=America/New_York:20260211T103000
DTSTAMP:20260423T045024
CREATED:20260126T155919Z
LAST-MODIFIED:20260126T155919Z
UID:28855-1770800400-1770805800@pioga.org
SUMMARY:PIOGA's Market Development Committee Meeting
DESCRIPTION:February 11th – 9 am \nPIOGA’s Market Development Committee Meeting \nMeeting details sent via email/calendar invite. Please contact deana@pioga.org if you are interested in joining the committee or have any questions!
URL:https://pioga.org/event/piogas-market-development-committee-meeting-2/
LOCATION:Virtual Event
CATEGORIES:PIOGA Committee Meetings
END:VEVENT
BEGIN:VEVENT
DTSTART;TZID=America/New_York:20260210T140000
DTEND;TZID=America/New_York:20260210T153000
DTSTAMP:20260423T045024
CREATED:20260126T154705Z
LAST-MODIFIED:20260126T154705Z
UID:28851-1770732000-1770737400@pioga.org
SUMMARY:PIOGA's Membership Committee Meeting
DESCRIPTION:February 10th – 2:00 pm. \nPIOGA’s Membership Committee Meeting \nMeeting details sent via email/calendar invite. Please contact deana@pioga.org if you are interested in joining the committee or have any questions!
URL:https://pioga.org/event/piogas-membership-committee-meeting-3/
LOCATION:Virtual Event
CATEGORIES:PIOGA Committee Meetings
END:VEVENT
BEGIN:VEVENT
DTSTART;VALUE=DATE:20260210
DTEND;VALUE=DATE:20260213
DTSTAMP:20260423T045024
CREATED:20260116T170710Z
LAST-MODIFIED:20260116T171304Z
UID:28747-1770681600-1770940799@pioga.org
SUMMARY:Energy Workforce & Technology Council - DC Fly-In
DESCRIPTION:2026 DC Fly-In\nHousing Block Deadline: January 10\nhttps://www.memberleap.com/Calendar/moreinfo_alt.php?eventid=58618&org_id=EWTC&ct=t%28Fly+In+Housing_COPY_01%29 \n🛎️ The 2026 DC Fly-In housing block deadline is January 10. Secure your room now and be in the room where decisions get made. With major policy fights on tariffs\, permitting reform\, and Venezuela coming to a head\, 2026 is shaping up to be a high-stakes year to engage directly with the Administration and Members of Congress.\nROOM BLOCK \nCanopy by Hilton Washington DC The Wharf\n975 7th St SW\, Washington\, DC 20024 \n  \nEWTC’s annual Fly-In gives senior executives from Energy Workforce Member Companies the opportunity to meet with policymakers in Washington\, D.C. to help shape the future of American energy. \nExpected Meetings with: \n\nSen. Ted Cruz (TX)\nSen. John Cornyn (TX)\nSen. John Kennedy (LA)\nSen. John Barrasso (WY)\nSen. Cynthia Lummis (WY)\nSen. Rubén Gallego (AZ)\nSen. Angus King (ME)\nRep. Wesley Hunt (TX-38)\nRep. Dan Crenshaw (TX-02)\nRep. August Pfluger (TX-11)\nRep. Nathaniel Moran (TX-01)\nRep. Cleo Fields (LA-6)\nRep. Brandon Gill (TX-26)\nRep. Lizzie Fletcher (TX-07)\nRep. Nick Langworthy (NY-23)\nRep. Doris Matsui (CA-07)\nRep. Jefferson Shreve (IN-06)\nRep. Vicente Gonzalez (TX-34)\nRep. Scott Peters (CA-50)\nRep. Thomas Kean\, Jr. (NJ-07)\nRep. Frank Lucas (OK-03)\nRep. Bruce Westerman (AR-04)\nSenior officials from the Department of State\, Interior\, DOE and Commerce\n\nAnd more to come!
URL:https://pioga.org/event/energy-workforce-technology-council-dc-fly-in/
CATEGORIES:Industry Conferences
END:VEVENT
BEGIN:VEVENT
DTSTART;TZID=America/New_York:20260205T133000
DTEND;TZID=America/New_York:20260205T150000
DTSTAMP:20260423T045024
CREATED:20260126T154520Z
LAST-MODIFIED:20260126T154520Z
UID:28849-1770298200-1770303600@pioga.org
SUMMARY:PIOGA Legislative Committee Meeting
DESCRIPTION:February 5th – 1:30 pm. \nPIOGA’s Legislative Committee Meeting \nMeeting details sent via email/calendar invite. Please contact deana@pioga.org if you are interested in joining the committee or have any questions!
URL:https://pioga.org/event/pioga-legislative-committee-meeting/
LOCATION:Virtual Event
CATEGORIES:PIOGA Committee Meetings
END:VEVENT
BEGIN:VEVENT
DTSTART;TZID=America/New_York:20260129T100000
DTEND;TZID=America/New_York:20260129T110000
DTSTAMP:20260423T045024
CREATED:20260126T154822Z
LAST-MODIFIED:20260126T154822Z
UID:28853-1769680800-1769684400@pioga.org
SUMMARY:PIOGA's Tax Committee Meeting
DESCRIPTION:January 29th  – 10 am \nPIOGA’s Tax Committee Meeting \nMeeting details sent via email/calendar invite. Please contact deana@pioga.org if you are interested in joining the committee or have any questions!
URL:https://pioga.org/event/piogas-tax-committee-meeting/
LOCATION:Virtual Event
CATEGORIES:PIOGA Committee Meetings
END:VEVENT
END:VCALENDAR