BEGIN:VCALENDAR
VERSION:2.0
PRODID:-//PIOGA - ECPv6.15.11//NONSGML v1.0//EN
CALSCALE:GREGORIAN
METHOD:PUBLISH
X-ORIGINAL-URL:https://pioga.org
X-WR-CALDESC:Events for PIOGA
REFRESH-INTERVAL;VALUE=DURATION:PT1H
X-Robots-Tag:noindex
X-PUBLISHED-TTL:PT1H
BEGIN:VTIMEZONE
TZID:America/New_York
BEGIN:DAYLIGHT
TZOFFSETFROM:-0500
TZOFFSETTO:-0400
TZNAME:EDT
DTSTART:20240310T070000
END:DAYLIGHT
BEGIN:STANDARD
TZOFFSETFROM:-0400
TZOFFSETTO:-0500
TZNAME:EST
DTSTART:20241103T060000
END:STANDARD
BEGIN:DAYLIGHT
TZOFFSETFROM:-0500
TZOFFSETTO:-0400
TZNAME:EDT
DTSTART:20250309T070000
END:DAYLIGHT
BEGIN:STANDARD
TZOFFSETFROM:-0400
TZOFFSETTO:-0500
TZNAME:EST
DTSTART:20251102T060000
END:STANDARD
BEGIN:DAYLIGHT
TZOFFSETFROM:-0500
TZOFFSETTO:-0400
TZNAME:EDT
DTSTART:20260308T070000
END:DAYLIGHT
BEGIN:STANDARD
TZOFFSETFROM:-0400
TZOFFSETTO:-0500
TZNAME:EST
DTSTART:20261101T060000
END:STANDARD
BEGIN:DAYLIGHT
TZOFFSETFROM:-0500
TZOFFSETTO:-0400
TZNAME:EDT
DTSTART:20270314T070000
END:DAYLIGHT
BEGIN:STANDARD
TZOFFSETFROM:-0400
TZOFFSETTO:-0500
TZNAME:EST
DTSTART:20271107T060000
END:STANDARD
END:VTIMEZONE
BEGIN:VEVENT
DTSTART;TZID=America/New_York:20251216T080000
DTEND;TZID=America/New_York:20261230T170000
DTSTAMP:20260425T081457
CREATED:20251216T193738Z
LAST-MODIFIED:20260128T160225Z
UID:28467-1765872000-1798650000@pioga.org
SUMMARY:2026 PIOGA Calendar
DESCRIPTION:Check out PIOGA’s 2026 Events Calendar \n2026 Yearly Calendar – CalendarLabs.com \nhttps://pioga.org/publication_file/2026-PIOGA-Calendar.pdf \n 
URL:https://pioga.org/event/2026-pioga-calendar/
CATEGORIES:PIOGA Committee Meetings,PIOGA Events
END:VEVENT
BEGIN:VEVENT
DTSTART;VALUE=DATE:20260408
DTEND;VALUE=DATE:20260410
DTSTAMP:20260425T081457
CREATED:20251210T174413Z
LAST-MODIFIED:20260402T155732Z
UID:28406-1775606400-1775779199@pioga.org
SUMMARY:PIOGA's Spring Meeting
DESCRIPTION:PIOGA’s Spring Meeting -‘The Power Beneath Your Feet” \nApril 8-9th @ Live Casino – Pittsburgh \n5260 U.S. 30 – Greensburg\, Pa 15601 \nClick Here to Register  \nClick Here to view 2026 Spring Meeting Brochure  \n\n\n\nSpring Meeting Schedule:  \nApril 8th: 5-7 pm WELCOME RECEPTION \nApril 9th: \n8-9 am REGISTRATION \n8am-5pm EXHIBITOR VISITS \n9am – 3:45 pm GENERAL MEETING HOURS \n12-1pm LUNCH \n3:45-5:30 pm RECEPTION \n \n  \nMeeting & Exhibitor Registration Rates:  \nPIOGA Members – $465 (Early Bird) $565 (Standard Rate) \nNon-Members – $615 (Early Bird) $715 (Standard Rate) \nStudents – $180 (Early Bird) $180 (Standard Rate) \nExhibitor Members – $1\,045 (Early Bird) $1\,295 (Standard Rate) \nExhibitor Non-Members – $1\,545 (Early Bird) $1\,795 (Standard Rate) \n* Early Bird Rates deadline March 9th \n \n\n\n\n\n\n\nRegistration Deadline is April 1\, 2026. Participants must be 21 years old or older to attend. \n\n\n\n  \n  \nClick Here to Register  \nClick Here to view 2026 Spring Meeting Brochure  \n  \nInterested in being an Exhibitor???? Check out the 2026 Spring Brochure for more information!  \n  \nContact Deana McMahan to sponsor at deana@pioga.org or call 724-933-7306 Ext. 23\nOr go to www.pioga.org > News/Events > 2026 Spring Meeting to register online \n  \n  \nClick Here to Register  \n  \nLodging\nHampton Inn\, Greensburg– PIOGA Room Block\n1000 Towne Square Drive Greensburg\, PA 15601\n• Rooms have been held for the PIOGA event for the nights of April 8\, 2026\n• PIOGA group rates (excluding tax/fees): $165.39/night\, Parking: Complimentary. Free Shuttle to casino until 11 pm\n• Reservation deadline: March 9\, 2026\n• To reserve your room call 724-838-8800 and use Group Code PIOGA or reserve online: Direct reservation link \n  \n  \n  \nSPONSORS  \n  \nLunch Sponsor \n\n\n\n\n\n\n\nPlatinum Sponsor \nLanyard Sponsor \n\n\n\n\n\n\n\n\n\n\n\n\n\n\n\nGold Sponsor \n\n\n\n\n  \n \n \n\n\n\n\n\n\n\n\n\n\n\n\n\n\n\n\n\n\n\n\n\n\n\nSpeaker Sponsor \n\n\n\n\n\n\n\n  \nWelcome Reception Sponsor (April 8th) \nReception Sponsor (April 9th)  \n\n\n\n\n\n\n\n\n  \nSilver Sponsor \n\n\n\n\n \n \n\n\n\n\n\n\n\n\n\n\n\nBreak Sponsor \nBronze Sponsor \n\n\n\n\n \n \n\n\n\n\n\n\n \n \n \n \n\n\n\n\n\n\n \n \n \n \n\n\n\n\n\n\n\n\n\n\n\nMedia Sponsor \n\n\n\n\n\n\n\n\n\n  \n  \nExhibitors  \n\n\n\nAmerican Refining Group  \nSunnyside Supply\nBureau of Land Management \n\nKeystone Well Services  \n \n\n\nBioSqueeze\nECI\nInsight Camera Services\n\nCleanAir Engineering  \n \n\n\nPrint King\nRJR Safety \nRivers of Steel \n\nPetroleum History Institute  \n \n\n\nCustos IQ \nCivil & Environmental Consultants\, Inc.\nHydron Desalination \nPittsburgh Petroleum Club \n \n\n\nTGT Diagnostics\nMesa Products \nSesar Industrial/Torsion X\nTechnology Commercialization \n\n\n\n\n\n\n\n\n\n\n\n\n\n\n\n\n\n 
URL:https://pioga.org/event/piogas-spring-meeting/
LOCATION:Live Casino\, 5260 U.S. 30\, Greensburg\, PA\, 15601\, United States
CATEGORIES:PIOGA Events
END:VEVENT
END:VCALENDAR