BEGIN:VCALENDAR
VERSION:2.0
PRODID:-//PIOGA - ECPv6.15.11//NONSGML v1.0//EN
CALSCALE:GREGORIAN
METHOD:PUBLISH
X-WR-CALNAME:PIOGA
X-ORIGINAL-URL:https://pioga.org
X-WR-CALDESC:Events for PIOGA
REFRESH-INTERVAL;VALUE=DURATION:PT1H
X-Robots-Tag:noindex
X-PUBLISHED-TTL:PT1H
BEGIN:VTIMEZONE
TZID:America/New_York
BEGIN:DAYLIGHT
TZOFFSETFROM:-0500
TZOFFSETTO:-0400
TZNAME:EDT
DTSTART:20250309T070000
END:DAYLIGHT
BEGIN:STANDARD
TZOFFSETFROM:-0400
TZOFFSETTO:-0500
TZNAME:EST
DTSTART:20251102T060000
END:STANDARD
BEGIN:DAYLIGHT
TZOFFSETFROM:-0500
TZOFFSETTO:-0400
TZNAME:EDT
DTSTART:20260308T070000
END:DAYLIGHT
BEGIN:STANDARD
TZOFFSETFROM:-0400
TZOFFSETTO:-0500
TZNAME:EST
DTSTART:20261101T060000
END:STANDARD
BEGIN:DAYLIGHT
TZOFFSETFROM:-0500
TZOFFSETTO:-0400
TZNAME:EDT
DTSTART:20270314T070000
END:DAYLIGHT
BEGIN:STANDARD
TZOFFSETFROM:-0400
TZOFFSETTO:-0500
TZNAME:EST
DTSTART:20271107T060000
END:STANDARD
END:VTIMEZONE
BEGIN:VEVENT
DTSTART;VALUE=DATE:20260428
DTEND;VALUE=DATE:20260501
DTSTAMP:20260419T104724
CREATED:20260116T171558Z
LAST-MODIFIED:20260116T171626Z
UID:28750-1777334400-1777593599@pioga.org
SUMMARY:NISTM - 28th Annual International Aboveground Storage Tank Conference & Trade Show
DESCRIPTION:NISTM – 28th Annual International Aboveground Storage Tank Conference & Trade Show \nApril 28-30th \nOrlando\, FL (Rosen Shingle Creek Hotel) \nJoin Industry Leaders at NISTM’s 2026 Aboveground Storage Tank Events! \nhttps://nistm.org/ \nThe National Institute for Storage Tank Management (NISTM) hosts premier conferences and trade shows focused on aboveground storage tanks (ASTs). In 2026\, we’re bringing together industry professionals across multiple locations\, including Florida\, California\, Texas\, Pennsylvania\, and Hawaii. \n  \nOur events in FL\, CA\, and TX feature a free trade show\, giving attendees access to leading exhibitors\, networking mixers\, and industry golf tournaments. These locations also offer specialized co-located courses\, such as Tanks 101\, Liquid Terminals 101\, and the Aviation Fueling Master Class. \n  \nNISTM events attract terminal operators\, engineers\, regulators\, manufacturers\, and service providers seeking the latest industry insights and solutions. Exhibitors benefit from direct engagement with decision-makers\, making these shows a valuable platform for brand visibility and business growth. \nhttps://nistm.org/ \nExplore our upcoming events\, register today\, or fill out an inquiry form to learn more!
URL:https://pioga.org/event/nistm-28th-annual-international-aboveground-storage-tank-conference-trade-show/
CATEGORIES:Industry Conferences
END:VEVENT
BEGIN:VEVENT
DTSTART;VALUE=DATE:20260503
DTEND;VALUE=DATE:20260507
DTSTAMP:20260419T104724
CREATED:20260317T171653Z
LAST-MODIFIED:20260317T171653Z
UID:29235-1777766400-1778111999@pioga.org
SUMMARY:APGA - Spring Conference
DESCRIPTION:Link: Home – APGA Spring Event \n\n\nAPGA Spring Conference: May 5-6\n\n\n\n\nThe 2026 Spring Conference on May 5-6 will follow the Board & Committee Meetings. Attendees will have the opportunity to attend sessions in two tracks: Gas Supply and Leadership & Governance. Early bird registration ends on April 10. Take advantage of the opportunity to attend sessions spanning a variety the topics that are relative to your position. If you wish to attend only the Spring Conference and not the Board & Committee Meetings\, please just select the 2026 Spring Conference session in step 3 of the registration form. \n\nRegister: Event Details
URL:https://pioga.org/event/apga-spring-conference/
CATEGORIES:Industry Conferences,Industry Events
END:VEVENT
BEGIN:VEVENT
DTSTART;VALUE=DATE:20260602
DTEND;VALUE=DATE:20260605
DTSTAMP:20260419T104724
CREATED:20260317T153854Z
LAST-MODIFIED:20260317T170135Z
UID:29227-1780358400-1780617599@pioga.org
SUMMARY:Methane Mitigation: Technology & Innovation World Summit
DESCRIPTION:June 2-4\, 2026 \nThe Woodlands Waterway Marriot Hotel & Convention Center \nThe Woodlands\, Texas \nWebsite: Methane Mitigation: Technology & Innovation World Summit
URL:https://pioga.org/event/methane-mitigation-technology-innovation-world-summit/
CATEGORIES:Industry Conferences,Industry Events
END:VEVENT
BEGIN:VEVENT
DTSTART;VALUE=DATE:20260603
DTEND;VALUE=DATE:20260605
DTSTAMP:20260419T104724
CREATED:20260319T151411Z
LAST-MODIFIED:20260319T151411Z
UID:29268-1780444800-1780617599@pioga.org
SUMMARY:Energy Capital Conference
DESCRIPTION:Hart Energy – Energy Capital Conference \nJune 3-4 \nThe Post Oak Hotel – Houston\, TX
URL:https://pioga.org/event/energy-capital-conference/
CATEGORIES:Industry Conferences,Industry Events
END:VEVENT
BEGIN:VEVENT
DTSTART;VALUE=DATE:20260608
DTEND;VALUE=DATE:20260611
DTSTAMP:20260419T104724
CREATED:20251030T132515Z
LAST-MODIFIED:20260210T145252Z
UID:28054-1780876800-1781135999@pioga.org
SUMMARY:LDC Gas Forum - Northeast
DESCRIPTION:The 31st Annual LDC Gas Forum Northeast takes place in Boston\, June 8-10\, 2026. Over four hundred natural gas industry decision-makers gather at this annual event to obtain insights about Northeast energy markets\, and to structure transactions to buy\, sell and transport natural gas. This is the industry’s premier gathering for natural gas industry professionals\, which is much more than simply a conference\, with participants routinely negotiating commercial transactions during the event. The Program for this year’s event is packed with relevant critical issues that natural gas market stakeholders are facing across the value chain. \nTopics addressed: Natural gas & LNG market fundamental analysis (supply\, demand\, delivery capacities)\, LNG exports\, AI Data Center Demand & Gas To Power\, independent power production\, Gas/Electric coordination\, Infrastructure capacities\, constraints\, projects (pipeline\, storage\, distribution)\, Virtual pipeline\, small-scale LNG\, on-site storage\, Canada imports\, Mexico exports\, Gas buyer insights\, Energy policy\, geopolitics\, Energy Evolution– addressing the trilemma challenge: security of supply\, affordability\, and lower carbon energy (Certified Gas\, RNG\, H2\, Carbon Capture (CCS)\, Carbon Offsets\, etc.) \nThe agenda also allocates multiple sessions of dedicated time for networking\, to facilitate discussion\, including with speakers\, and to meet and connect with existing and prospective customers. \n  \nRegister here: https://tinyurl.com/42bbzv88  \nUse discount code NEPIOGA125 for $125 off! \nView Website for more information: https://tinyurl.com/ret8ufaw\nView Attendee List here: https://tinyurl.com/bdd94257  \n  \n 
URL:https://pioga.org/event/ldc-gas-forum-northeast/
CATEGORIES:Industry Classes,Industry Conferences,Industry Events
ORGANIZER;CN="LDC Gas Forum":MAILTO:ccoleman@accessintel.com
END:VEVENT
BEGIN:VEVENT
DTSTART;VALUE=DATE:20260617
DTEND;VALUE=DATE:20260619
DTSTAMP:20260419T104724
CREATED:20260317T170426Z
LAST-MODIFIED:20260317T170426Z
UID:29231-1781654400-1781827199@pioga.org
SUMMARY:IPAA - 97th Annual Meeting
DESCRIPTION:Independent Petroleum Association of America | 97th Annual Meeting\n\n\n97th Annual Meeting\n\n\n\n\n\n\n\nEvent Dates\nJune 17 – June 18\, 2026 \n\n\n\nLocation\n1 Lake Avenue\, Colorado Springs\, CO 80906\, United States \n  \n\n\n\n\nEvent Details\n\n\n\n\n\n\n\n\nJoin us at the 97th Annual Meeting Featuring Keynote Alex Epstien- author of The Moral Case for Fossil Fuels and Fossil Future\nYou’re Invited: IPAA’s 97th Annual Meeting | June 2026 | The Broadmoor\, Colorado Springs \n \nYou’re invited to IPAA’s 97th Annual Meeting\, taking place this June at the iconic The Broadmoor in beautiful Colorado Springs. Join industry leaders\, innovators\, and policymakers at IPAA’s flagship gathering—this year inspired by the pioneering spirit of the Colorado Gold Rush. Just as prospectors once ventured west in search of opportunity\, today’s energy leaders are forging new paths in innovation\, resilience\, and growth across the oil and natural gas industry. \nThe program features dynamic keynote speakers\, timely discussions\, and exceptional networking opportunities. A featured keynote from Alex Epstein—author of The Moral Case for Fossil Fuels and Fossil Future—will examine the critical role of reliable\, affordable oil and natural gas in powering modern life and supporting global economic growth. \nFeatured sessions will explore key issues shaping the industry\, including Workforce Challenges Facing Producers\, International Market Trends– featuring Ambassador David Satterfield of the Baker Institute for Public Policy at Rice University\, Idea Sharing Across Basins and Big Break: Breakthrough Discoveries Driving the Energy Frontier\, highlighting the discoveries\, innovations\, and lessons shaping the next generation of exploration and production.\n \nJoin your peers at this premier industry gathering to gain insights\, build connections\, and help shape the future of American energy. \nWhy Attend? \n Gain critical updates and insights into the 2026 energy landscape\n Build lasting relationships with top executives and thought leaders\n Discover strategies to navigate and thrive in a changing energy economy \nWhy The Broadmoor?\nNestled at the foot of the Rockies\, The Broadmoor is more than a resort—it’s a destination. Enjoy world-class dining\, award-winning golf courses\, luxurious spa experiences\, and outdoor adventures like fly-fishing\, zip lining\, and hiking Seven Falls. Whether you’re here for business\, relaxation\, or both\, The Broadmoor delivers unforgettable experiences in a setting unlike any other. \nVisit https://www.broadmoor.com/adventures to explore local adventures! \nCome for the industry. Stay for the scenery. \nWe look forward to seeing you in Colorado Springs next June for an inspiring\, energizing\, and truly elevated experience. \nBOOK EARLY TO GUARANTEE YOUR ROOM!- IPAA Annual Meeting – Start your reservation
URL:https://pioga.org/event/ipaa-97th-annual-meeting/
CATEGORIES:Industry Conferences,Industry Events
END:VEVENT
BEGIN:VEVENT
DTSTART;VALUE=DATE:20260617
DTEND;VALUE=DATE:20260618
DTSTAMP:20260419T104724
CREATED:20260414T165828Z
LAST-MODIFIED:20260414T165828Z
UID:29525-1781654400-1781740799@pioga.org
SUMMARY:Energy Technology Summit
DESCRIPTION:ENERGY TECHNOLOGY AND POLICY SUMMIT: POWERING THE FUTURE\n\nEvent Date: 6/17/2026\nEvent Time: 8:30 AM – 3:30 PM CST \nLocation:\nGreater Houston Partnership\n701 Avenida de las Americas\nHouston\, TX 77010\n\n\n\nLink: Energy Workforce & Technology Council – Energy Workforce & Technology Council
URL:https://pioga.org/event/energy-technology-summit/
CATEGORIES:Industry Conferences,Industry Events
END:VEVENT
BEGIN:VEVENT
DTSTART;VALUE=DATE:20260915
DTEND;VALUE=DATE:20260918
DTSTAMP:20260419T104724
CREATED:20260319T151257Z
LAST-MODIFIED:20260319T151257Z
UID:29266-1789430400-1789689599@pioga.org
SUMMARY:Super DUG Conference & Expo
DESCRIPTION:Hart Energy – Super DUG – Conference and Expo \nSeptember 15-17th – Houston\, TX \n  \nWebsite: Home – 2026 Hart Energy SUPER DUG Conference & Expo
URL:https://pioga.org/event/super-dug-conference-expo/
CATEGORIES:Industry Conferences,Industry Events
END:VEVENT
BEGIN:VEVENT
DTSTART;VALUE=DATE:20261111
DTEND;VALUE=DATE:20261114
DTSTAMP:20260419T104724
CREATED:20260324T150502Z
LAST-MODIFIED:20260324T150502Z
UID:29319-1794355200-1794614399@pioga.org
SUMMARY:NATGAS to POWER Forum 2026
DESCRIPTION:November 11 — 13\, 2026  \nJW Marriott Austin Hotel\nAustin\, Texas\n\nWebsite: NatGas to Power Forum 2026 | AI Data Center Energy Conference
URL:https://pioga.org/event/natgas-to-power-forum-2026/
CATEGORIES:Industry Conferences
END:VEVENT
END:VCALENDAR